BEGIN:VCALENDAR
VERSION:2.0
PRODID:-//IATSE Local 122 - ECPv6.15.20//NONSGML v1.0//EN
CALSCALE:GREGORIAN
METHOD:PUBLISH
X-ORIGINAL-URL:https://www.iatse122.org
X-WR-CALDESC:Events for IATSE Local 122
REFRESH-INTERVAL;VALUE=DURATION:PT1H
X-Robots-Tag:noindex
X-PUBLISHED-TTL:PT1H
BEGIN:VTIMEZONE
TZID:America/Los_Angeles
BEGIN:DAYLIGHT
TZOFFSETFROM:-0800
TZOFFSETTO:-0700
TZNAME:PDT
DTSTART:20250309T100000
END:DAYLIGHT
BEGIN:STANDARD
TZOFFSETFROM:-0700
TZOFFSETTO:-0800
TZNAME:PST
DTSTART:20251102T090000
END:STANDARD
BEGIN:DAYLIGHT
TZOFFSETFROM:-0800
TZOFFSETTO:-0700
TZNAME:PDT
DTSTART:20260308T100000
END:DAYLIGHT
BEGIN:STANDARD
TZOFFSETFROM:-0700
TZOFFSETTO:-0800
TZNAME:PST
DTSTART:20261101T090000
END:STANDARD
BEGIN:DAYLIGHT
TZOFFSETFROM:-0800
TZOFFSETTO:-0700
TZNAME:PDT
DTSTART:20270314T100000
END:DAYLIGHT
BEGIN:STANDARD
TZOFFSETFROM:-0700
TZOFFSETTO:-0800
TZNAME:PST
DTSTART:20271107T090000
END:STANDARD
END:VTIMEZONE
BEGIN:VEVENT
DTSTART;TZID=America/Los_Angeles:20260423T100000
DTEND;TZID=America/Los_Angeles:20260423T130000
DTSTAMP:20260423T021427
CREATED:20260403T221608Z
LAST-MODIFIED:20260403T221608Z
UID:10001950-1776938400-1776949200@www.iatse122.org
SUMMARY:Audio 10: Intro to Audio
DESCRIPTION:IATSE 122’s ‘Audio 10: Intro to Audio’ class is a foundational course tailored for those beginning their path in the audio industry. In this 2-hour entry-level class\, you will gain essential knowledge and skills necessary to work effectively on an audio crew\, guided by the supervision of experienced professionals. Discover the fundamental concepts of audio\, delving into its various applications in settings like live events\, broadcasts\, and entertainment. Learn to identify and understand the core audio equipment\, including microphones\, cables\, and connectors\, and comprehend their basic functions. This class places a strong emphasis on safety protocols in audio work\, ensuring you’re equipped to handle equipment safely and professionally. \nAdditionally\, you’ll explore the basics of audio setups\, gaining an understanding of signal flow from source to output. We’ll also cover the principles of effective cable management and the significance of customer service in the audio industry. By the end of this course\, you’ll have a solid grasp of audio terminology and an appreciation of the different roles within the audio sector. Whether you’re aiming for a career in live sound\, theater\, broadcast\, or film\, this class will lay the groundwork for your professional journey\, providing you with the knowledge and confidence to operate under experienced guidance. Join us to step into the world of audio with clarity and competence. \nLearning Objectives: \n\nIdentify Basic Audio Concepts: Recall the definition of audio and its applications in various contexts like meetings\, public addresses\, live broadcasts\, entertainment\, and concert sound.\nRecognize Different Types of Audio Equipment: Memorize the names and basic functions of different audio equipment\, including microphones\, cables\, and connectors.\nRecall Safety Protocols: Remember general safety guidelines and specific safety measures related to audio work.\nUnderstand Audio Terminology: Identify key audio terms and their meanings\, such as signal flow\, gain structure\, and different types of audio signals (mic level\, line level\, speaker level).\nComprehend the Role of Audio in Various Settings: Understand the importance and use of audio in settings like corporate events\, theater\, concert sound\, broadcast\, and film.\nInterpret Basic Audio Setups: Understand the basic setup of audio systems\, including the signal flow from microphones to speakers.\nGrasp the Basics of Cable Management: Understand the principles of wrapping and managing cables effectively.\nUnderstand the Importance of Customer Service in Audio Work: Comprehend the role of customer service in ensuring effective audio management and the comfort of presenters and performers.\n\n4349 Twain Ave B\, San Diego\, CA\, 92120 in Mission Valley. \nWe are at the end of a surprisingly long driveway that is found on the South Side of Twain Ave\, right next to the doggie day care and across from the black\, white and grey newer apartment building. We have limited parking within our own complex only; street parking is great but do not use any other parking lots. \n  \nRegister HERE \n  \nPLEASE NOTE: \n\nThis is an in person class. This class has limited attendance and all attendees must have a reservation; therefore\, it will be treated like a job call.\nIf you are unable to attend\, please cancel your ticket or email education@iatselocal122.org.\nTardiness and/or No-Call-No-Show will be reported to the IATSE Local 122 Compliance Committee.
URL:https://www.iatse122.org/event/audio-10-intro-to-audio-2/
LOCATION:The TC (Training Center)\, 4349 Twain Ave\, San Diego\, CA\, 92120
CATEGORIES:EDU
END:VEVENT
BEGIN:VEVENT
DTSTART;TZID=America/Los_Angeles:20260428T090000
DTEND;TZID=America/Los_Angeles:20260429T160000
DTSTAMP:20260423T021427
CREATED:20260403T221817Z
LAST-MODIFIED:20260403T221839Z
UID:10001949-1777366800-1777478400@www.iatse122.org
SUMMARY:OSHA 10 Class 4/28 and 4/29 by IATSE Local 122
DESCRIPTION:Enhance your professional credentials and ensure compliance with county regulations by securing your OSHA-10 Hour General Industry card. As of January 1\, 2024\, this certification is a compulsory requirement for all individuals engaged in work on county properties. We strongly encourage all workers who have not yet obtained their OSHA-10 card to enroll in our upcoming class. \nThis comprehensive 2-day safety awareness course is rapidly becoming an industry standard within the Entertainment sector\, with certain venues making it a prerequisite for employment. Facilitated by our experienced education department\, the program covers essential safety practices and principles relevant to the General Entertainment Industry\, equipping you with the knowledge to maintain a safe working environment. \nThere will be two 15 minute breaks and one 30 minute lunch each day. \nClass Schedule: \n\nTues\, April 28\, 9am to 4pm\nWeds\, April 29\, 9am to 4pm\n\nLocation: \nVirtual. Link will be emailed within 24h of class. \n  \nRegister HERE \n  \nThe Lerner must attend the entirety of both days in order to be issued an OSHA-10 card. \nThis class has limited capacity and as such it will be treated like a job call regarding call out procedures\, tardiness and no call no show. \nRequirements: \n\nThe learner must have worked a call from the referral hall\, worked under a collective bargaining agreement\, or be a current member of IATSE Local 122.\nIf you are unable to attend\, please cancel your ticket or email education@iatse122.org.\nTardiness and/or No-Call-No-Show will be reported to the IATSE Local 122 Compliance Committee.
URL:https://www.iatse122.org/event/osha-10-class-4-28-and-4-29-by-iatse-local-122/
LOCATION:CA
CATEGORIES:EDU
END:VEVENT
END:VCALENDAR