BEGIN:VCALENDAR
VERSION:2.0
PRODID:-//IATSE Local 122 - ECPv6.15.20//NONSGML v1.0//EN
CALSCALE:GREGORIAN
METHOD:PUBLISH
X-ORIGINAL-URL:https://www.iatse122.org
X-WR-CALDESC:Events for IATSE Local 122
REFRESH-INTERVAL;VALUE=DURATION:PT1H
X-Robots-Tag:noindex
X-PUBLISHED-TTL:PT1H
BEGIN:VTIMEZONE
TZID:America/Los_Angeles
BEGIN:DAYLIGHT
TZOFFSETFROM:-0800
TZOFFSETTO:-0700
TZNAME:PDT
DTSTART:20250309T100000
END:DAYLIGHT
BEGIN:STANDARD
TZOFFSETFROM:-0700
TZOFFSETTO:-0800
TZNAME:PST
DTSTART:20251102T090000
END:STANDARD
BEGIN:DAYLIGHT
TZOFFSETFROM:-0800
TZOFFSETTO:-0700
TZNAME:PDT
DTSTART:20260308T100000
END:DAYLIGHT
BEGIN:STANDARD
TZOFFSETFROM:-0700
TZOFFSETTO:-0800
TZNAME:PST
DTSTART:20261101T090000
END:STANDARD
BEGIN:DAYLIGHT
TZOFFSETFROM:-0800
TZOFFSETTO:-0700
TZNAME:PDT
DTSTART:20270314T100000
END:DAYLIGHT
BEGIN:STANDARD
TZOFFSETFROM:-0700
TZOFFSETTO:-0800
TZNAME:PST
DTSTART:20271107T090000
END:STANDARD
END:VTIMEZONE
BEGIN:VEVENT
DTSTART;TZID=America/Los_Angeles:20260511T080000
DTEND;TZID=America/Los_Angeles:20260511T160000
DTSTAMP:20260425T065959
CREATED:20260424T222802Z
LAST-MODIFIED:20260424T222802Z
UID:10001960-1778486400-1778515200@www.iatse122.org
SUMMARY:Skill-Sign Off
DESCRIPTION:Skill sign offs are your chance to prove that you can do a particular skill.  All successful sign-offs are reported to dispatch and appropriate job classifications are added to your work profile.  Currently we are building our skill sign of abilities and offer Audio\, Basic Stagehand Skills\, and some Rigging sign-offs.  We will have appointments at 10am\, 12pm\, and 2pm at the Training Center found at 4349 Twain Ave in Mission Valley.  Please fill out the THIS form to reserve your time slot today.
URL:https://www.iatse122.org/event/skill-sign-off-3/
LOCATION:The TC (Training Center)\, 4349 Twain Ave\, San Diego\, CA\, 92120
CATEGORIES:EDU
END:VEVENT
END:VCALENDAR